BEGIN:VCALENDAR
VERSION:2.0
PRODID:-//Eastern Hudson Valley Horse Council - ECPv6.15.20//NONSGML v1.0//EN
CALSCALE:GREGORIAN
METHOD:PUBLISH
X-WR-CALNAME:Eastern Hudson Valley Horse Council
X-ORIGINAL-URL:https://www.ehvhorsecouncil.org
X-WR-CALDESC:Events for Eastern Hudson Valley Horse Council
REFRESH-INTERVAL;VALUE=DURATION:PT1H
X-Robots-Tag:noindex
X-PUBLISHED-TTL:PT1H
BEGIN:VTIMEZONE
TZID:America/New_York
BEGIN:DAYLIGHT
TZOFFSETFROM:-0500
TZOFFSETTO:-0400
TZNAME:EDT
DTSTART:20190310T070000
END:DAYLIGHT
BEGIN:STANDARD
TZOFFSETFROM:-0400
TZOFFSETTO:-0500
TZNAME:EST
DTSTART:20191103T060000
END:STANDARD
BEGIN:DAYLIGHT
TZOFFSETFROM:-0500
TZOFFSETTO:-0400
TZNAME:EDT
DTSTART:20200308T070000
END:DAYLIGHT
BEGIN:STANDARD
TZOFFSETFROM:-0400
TZOFFSETTO:-0500
TZNAME:EST
DTSTART:20201101T060000
END:STANDARD
BEGIN:DAYLIGHT
TZOFFSETFROM:-0500
TZOFFSETTO:-0400
TZNAME:EDT
DTSTART:20210314T070000
END:DAYLIGHT
BEGIN:STANDARD
TZOFFSETFROM:-0400
TZOFFSETTO:-0500
TZNAME:EST
DTSTART:20211107T060000
END:STANDARD
BEGIN:DAYLIGHT
TZOFFSETFROM:-0500
TZOFFSETTO:-0400
TZNAME:EDT
DTSTART:20220313T070000
END:DAYLIGHT
BEGIN:STANDARD
TZOFFSETFROM:-0400
TZOFFSETTO:-0500
TZNAME:EST
DTSTART:20221106T060000
END:STANDARD
END:VTIMEZONE
BEGIN:VEVENT
DTSTART;TZID=America/New_York:20211207T000000
DTEND;TZID=America/New_York:20211207T235959
DTSTAMP:20260422T001906
CREATED:20210507T054100Z
LAST-MODIFIED:20210507T054348Z
UID:757-1638835200-1638921599@www.ehvhorsecouncil.org
SUMMARY:Open Meeting
DESCRIPTION:Our schedule is still tentative\, so please check back often for updates!
URL:https://www.ehvhorsecouncil.org/event/open-meeting-6/
CATEGORIES:Public Member Meetings
END:VEVENT
BEGIN:VEVENT
DTSTART;TZID=America/New_York:20211102T000000
DTEND;TZID=America/New_York:20211102T235959
DTSTAMP:20260422T001906
CREATED:20210507T053845Z
LAST-MODIFIED:20210507T054348Z
UID:753-1635811200-1635897599@www.ehvhorsecouncil.org
SUMMARY:Open Meeting
DESCRIPTION:Our schedule is still tentative\, so please check back often for updates!
URL:https://www.ehvhorsecouncil.org/event/open-meeting-5/
CATEGORIES:Public Member Meetings
END:VEVENT
BEGIN:VEVENT
DTSTART;TZID=America/New_York:20211005T000000
DTEND;TZID=America/New_York:20211005T235959
DTSTAMP:20260422T001906
CREATED:20210507T053744Z
LAST-MODIFIED:20210507T054348Z
UID:749-1633392000-1633478399@www.ehvhorsecouncil.org
SUMMARY:Open Meeting
DESCRIPTION:Our schedule is still tentative\, so please check back often for updates!
URL:https://www.ehvhorsecouncil.org/event/open-meeting-4/
CATEGORIES:Public Member Meetings
END:VEVENT
BEGIN:VEVENT
DTSTART;TZID=America/New_York:20210907T000000
DTEND;TZID=America/New_York:20210907T235959
DTSTAMP:20260422T001906
CREATED:20210507T053700Z
LAST-MODIFIED:20210507T054348Z
UID:747-1630972800-1631059199@www.ehvhorsecouncil.org
SUMMARY:Open Meeting
DESCRIPTION:Our schedule is still tentative\, so please check back often for updates!
URL:https://www.ehvhorsecouncil.org/event/open-meeting-3/
CATEGORIES:Public Member Meetings
END:VEVENT
BEGIN:VEVENT
DTSTART;TZID=America/New_York:20210803T000000
DTEND;TZID=America/New_York:20210803T235959
DTSTAMP:20260422T001906
CREATED:20210507T053533Z
LAST-MODIFIED:20210507T054314Z
UID:745-1627948800-1628035199@www.ehvhorsecouncil.org
SUMMARY:Open Meeting
DESCRIPTION:Our schedule is still tentative\, so please check back often for updates!
URL:https://www.ehvhorsecouncil.org/event/open-meeting-2/
CATEGORIES:Public Member Meetings
END:VEVENT
BEGIN:VEVENT
DTSTART;TZID=America/New_York:20210706T000000
DTEND;TZID=America/New_York:20210706T235959
DTSTAMP:20260422T001906
CREATED:20210507T053008Z
LAST-MODIFIED:20210507T054223Z
UID:740-1625529600-1625615999@www.ehvhorsecouncil.org
SUMMARY:Open Meeting
DESCRIPTION:Our schedule is still tentative\, so please check back often for updates!
URL:https://www.ehvhorsecouncil.org/event/open-meeting-july-2021/
CATEGORIES:Public Member Meetings
END:VEVENT
BEGIN:VEVENT
DTSTART;TZID=America/New_York:20201006T180000
DTEND;TZID=America/New_York:20201006T193000
DTSTAMP:20260422T001906
CREATED:20200905T032525Z
LAST-MODIFIED:20201006T155133Z
UID:290-1602007200-1602012600@www.ehvhorsecouncil.org
SUMMARY:Open Meeting- In Person October 6\, 2020
DESCRIPTION:Please join us Tuesday October 6\, 2020 for our Open Meeting! \n  \nThis will be an outdoor meeting at 6pm at Christine Nastasi’s patio. 187 Prospect Hill Road Brewster\, NY \n 
URL:https://www.ehvhorsecouncil.org/event/open-meeting/
CATEGORIES:Public Member Meetings
END:VEVENT
END:VCALENDAR