BEGIN:VCALENDAR
VERSION:2.0
PRODID:-//Eastern Hudson Valley Horse Council - ECPv6.15.20//NONSGML v1.0//EN
CALSCALE:GREGORIAN
METHOD:PUBLISH
X-ORIGINAL-URL:https://www.ehvhorsecouncil.org
X-WR-CALDESC:Events for Eastern Hudson Valley Horse Council
REFRESH-INTERVAL;VALUE=DURATION:PT1H
X-Robots-Tag:noindex
X-PUBLISHED-TTL:PT1H
BEGIN:VTIMEZONE
TZID:America/New_York
BEGIN:DAYLIGHT
TZOFFSETFROM:-0500
TZOFFSETTO:-0400
TZNAME:EDT
DTSTART:20200308T070000
END:DAYLIGHT
BEGIN:STANDARD
TZOFFSETFROM:-0400
TZOFFSETTO:-0500
TZNAME:EST
DTSTART:20201101T060000
END:STANDARD
BEGIN:DAYLIGHT
TZOFFSETFROM:-0500
TZOFFSETTO:-0400
TZNAME:EDT
DTSTART:20210314T070000
END:DAYLIGHT
BEGIN:STANDARD
TZOFFSETFROM:-0400
TZOFFSETTO:-0500
TZNAME:EST
DTSTART:20211107T060000
END:STANDARD
BEGIN:DAYLIGHT
TZOFFSETFROM:-0500
TZOFFSETTO:-0400
TZNAME:EDT
DTSTART:20220313T070000
END:DAYLIGHT
BEGIN:STANDARD
TZOFFSETFROM:-0400
TZOFFSETTO:-0500
TZNAME:EST
DTSTART:20221106T060000
END:STANDARD
END:VTIMEZONE
BEGIN:VEVENT
DTSTART;TZID=America/New_York:20211107T083000
DTEND;TZID=America/New_York:20211107T160000
DTSTAMP:20260424T133640
CREATED:20210507T054010Z
LAST-MODIFIED:20211021T162304Z
UID:755-1636273800-1636300800@www.ehvhorsecouncil.org
SUMMARY:Hunter Pace at Tymor Equestrian Center
DESCRIPTION:Closing date for prepaid entries – Wednesday November 3rdPrepaid: Member $75\, Non-member $110 (First 20 will receive a free gift bag!)Day of Registration: Member $100\, Non-member $135 \n\n\n\nGift bags to the first 20 pre-paid ridersGift for the oldest riderGift for the youngest riderJoin EHVHC at the Pace\, pay the member fee AND receive Membership for 2022Includes lunch \n\n\n\nRegistration opens @ 8:30First team out @ 8:45Last team out –11:15No assigned start times \n\n\n\nPrizes awarded for FIRST Place – Embroidered saddle pads\, Leather bridles from Smith-Worthington\, Leather halters from Smith-WorthingtonRibbons awarded through sixth place \n\n\n\nWe will have raffles (including\, but not limited to: Smith-Worthington saddle with stirrupleathers\, stirrup irons\, and saddle pad; Smith-Worthington bridle with brass bridle rack andleather conditioner)\, and door prizes. \n\n\n\nNeed a team? Contact us to be placed on a team! \n\n\n\n\n\n\n Sign Up And Pre-Pay Online \n\n\n\nWaiver\n\n\n\nRules\n\n\n\nDetails\n\n\n\nPrint Registration Form\n\n\n\n\n\n\n\n\n\n\n\n\n\n\nWIN ENTRY:Enter by 10/19. Winner announced 10/22– Win an INDIVIDUAL entry via Facebook.  Check out our Facebook Group: Eastern Hudson Valley Horse Council to enter.– Never ridden in a Hunter Pace before? Always wanted to? Enter our TEAM giveaway HERE! \n\n\n\n\n\n\n\nEvent Venue:
URL:https://www.ehvhorsecouncil.org/event/hunter-pace-at-tymor-equestrian-center/
LOCATION:Tymor Equestrian Center\, 165 Duncan Road\, Lagrangeville\, NY\, 12540\, United States
CATEGORIES:Riding
END:VEVENT
BEGIN:VEVENT
DTSTART;TZID=America/New_York:20210815T080000
DTEND;TZID=America/New_York:20210815T170000
DTSTAMP:20260424T133640
CREATED:20210507T051137Z
LAST-MODIFIED:20210811T030014Z
UID:730-1629014400-1629046800@www.ehvhorsecouncil.org
SUMMARY:Tymor 2021 Series - Show #3
DESCRIPTION:The third in our annual series of horse shows at Tymor Equestrian Center to benefit Eastern Hudson Valley Horse Council. \n\n\n\n\n\nEnglish only classes:\n\n\n\nWalk-Trot EquitationBeginner EquitationNovice EquitationHopeful HunterLow HunterPuddle JumperTraining Jumper\n\n\n\n\n\nOpen to all disciplines:\n\n\n\nFitting and ShowmanshipGreen HorsePleasure HorseLeadlineGames\n\n\n\n\n\nWestern only classes:\n\n\n\nWalk / JogNoviceOpenRanch Riding\n\n\n\n\n\nObstacle Course\n\n\n\nJoin us for our Fun Obstacle Challenge!An unjudged introduction to an Obstacle Course.Designed and built by Peter IanucciCourse is open  12 – 4 PMThe course will consist of approximately eight (8) mostly natural obstacles – a gang plank\, gate\, bridge\, teeter-totter.Cost: $15.00 per roundParticipants will have approximately 15 minutes on the course.A Moderator will be present to re-set any disturbed obstacles.All participants are asked for follow the Moderator’s directions. \n\n\n\n\n\nTymor Show Series Flyer\n\n\n\n\n\nRevised Event Details\n\n\n\n\n\nRevised Registration Form\n\n\n\n\n\n\n\nHorse Show CommitteeChristine A. Nastasi – Co-Chair 845-588-5333Loretta Ryan – Co-Chair 845-797-1050Kristan DeGrazioJulia Del Vecchio \n\n\n\nJudgesThe committee reserves the right to substituteMay 23 – Ms. Audrey PetscheckJuly 11 – TBDAugust 15 – TBD \n\n\n\nHorse Show ManagerChristine A. Nastasi – info@EHVHorseCouncil.orgHorse Show will start PROMPTLY at 8:00 AM \n\n\n\n\n\nEntry Fees$15.00 per class\, unless otherwise noted.Triple Crown Feed Modified Hunter Derby – $25.00In order to be eligible to compete in the Modified Hunter Derby\, the horse/rider combination must have entered a minimum of three (3) other classes. \n\n\n\nOffice fee – $15.00 per entryDay fee – $65.00 per horse/rider combinationThe Day fee allows the horse/rider combination to enter a maximum of 10 of classes\, excluding the Modified Hunter Derby and Obstacle Course. \n\n\n\nEach additional class is $15.00 per class.Obstacle Course – $15.00 per round \n\n\n\n\n\nEntries close the Wednesday before the Horse ShowEntries received after this date will incur a Post-entry fee of $15.00 per entryEmail Pre-entries entries to: info@EHVHorseCouncil.orgMake checks payable to Eastern Hudson Valley Horse CouncilCompetitors may leave a signed\, open check with the Horse Show Secretary
URL:https://www.ehvhorsecouncil.org/event/tymor-2021-series-show-3/
LOCATION:Tymor Equestrian Center\, 165 Duncan Road\, Lagrangeville\, NY\, 12540\, United States
CATEGORIES:Riding
ATTACH;FMTTYPE=image/jpeg:https://www.ehvhorsecouncil.org/wp-content/uploads/2021/04/Show-Ring.jpg
END:VEVENT
BEGIN:VEVENT
DTSTART;TZID=America/New_York:20210711T080000
DTEND;TZID=America/New_York:20210711T170000
DTSTAMP:20260424T133640
CREATED:20210507T050702Z
LAST-MODIFIED:20210805T034816Z
UID:721-1625990400-1626022800@www.ehvhorsecouncil.org
SUMMARY:Tymor 2021 Series - Show #2
DESCRIPTION:The second in our annual series of horse shows at Tymor Equestrian Center to benefit Eastern Hudson Valley Horse Council. \n\n\n\n\n\nEnglish only classes:\n\n\n\nWalk-Trot EquitationBeginner EquitationNovice EquitationHopeful HunterLow HunterPuddle JumperTraining Jumper\n\n\n\n\n\nOpen to all disciplines:\n\n\n\nFitting and ShowmanshipGreen HorsePleasure HorseLeadlineGames\n\n\n\n\n\nWestern only classes:\n\n\n\nWalk / JogNoviceOpenRanch Riding\n\n\n\n\n\nObstacle Course\n\n\n\nJoin us for our Fun Obstacle Challenge!An unjudged introduction to an Obstacle Course.Designed and built by Peter IanucciCourse is open 9:00 AM – 1:30 PMThe course will consist of approximately eight (8) mostly natural obstacles – a gang plank\, gate\, bridge\, teeter-totter.Cost: $15.00 per roundParticipants will have approximately 15 minutes on the course.A Moderator will be present to re-set any disturbed obstacles.All participants are asked for follow the Moderator’s directions. \n\n\n\n\n\nTymor Show Series Flyer\n\n\n\n\n\nRevised Event Details\n\n\n\n\n\nRevised Registration Form\n\n\n\n\n\n\n\nHorse Show CommitteeChristine A. Nastasi – Co-Chair 845-588-5333Loretta Ryan – Co-Chair 845-797-1050Kristan DeGrazioJulia Del Vecchio \n\n\n\nJudgesThe committee reserves the right to substituteMay 23 – Ms. Audrey PetscheckJuly 11 – TBDAugust 15 – TBD \n\n\n\nHorse Show ManagerChristine A. Nastasi – info@EHVHorseCouncil.orgHorse Show will start PROMPTLY at 8:00 AM \n\n\n\n\n\nEntry Fees$15.00 per class\, unless otherwise noted.Triple Crown Feed Modified Hunter Derby – $25.00In order to be eligible to compete in the Modified Hunter Derby\, the horse/rider combination must have entered a minimum of three (3) other classes. \n\n\n\nOffice fee – $15.00 per entryDay fee – $65.00 per horse/rider combinationThe Day fee allows the horse/rider combination to enter a maximum of 10 of classes\, excluding the Modified Hunter Derby and Obstacle Course. \n\n\n\nEach additional class is $15.00 per class.Obstacle Course – $15.00 per round \n\n\n\n\n\nEntries close the Wednesday before the Horse ShowEntries received after this date will incur a Post-entry fee of $15.00 per entryEmail Pre-entries entries to: info@EHVHorseCouncil.orgMake checks payable to Eastern Hudson Valley Horse CouncilCompetitors may leave a signed\, open check with the Horse Show Secretary
URL:https://www.ehvhorsecouncil.org/event/tymor-2021-series-show-2/
LOCATION:Tymor Equestrian Center\, 165 Duncan Road\, Lagrangeville\, NY\, 12540\, United States
CATEGORIES:Riding
ATTACH;FMTTYPE=image/jpeg:https://www.ehvhorsecouncil.org/wp-content/uploads/2021/04/Show-Ring.jpg
END:VEVENT
BEGIN:VEVENT
DTSTART;TZID=America/New_York:20210627T000000
DTEND;TZID=America/New_York:20210627T235959
DTSTAMP:20260424T133640
CREATED:20210507T052853Z
LAST-MODIFIED:20210507T054214Z
UID:734-1624752000-1624838399@www.ehvhorsecouncil.org
SUMMARY:Poker Ride at Putnam Park
DESCRIPTION:Our schedule is still tentative\, so please check back often for updates!
URL:https://www.ehvhorsecouncil.org/event/poker-ride-at-putnam-park/
LOCATION:Putnam Veterans Park\, Putnam County Veterans Memorial Park\, Gipsy Trail Road\, Carmel\, NY\, 10512\, United States
CATEGORIES:Riding
ATTACH;FMTTYPE=image/jpeg:https://www.ehvhorsecouncil.org/wp-content/uploads/2021/05/jack-hamilton-9SewS6lowEU-unsplash-1.jpg
END:VEVENT
BEGIN:VEVENT
DTSTART;TZID=America/New_York:20210523T080000
DTEND;TZID=America/New_York:20210523T170000
DTSTAMP:20260424T133640
CREATED:20210506T163551Z
LAST-MODIFIED:20210522T153608Z
UID:585-1621756800-1621789200@www.ehvhorsecouncil.org
SUMMARY:Tymor 2021 Series - Show #1
DESCRIPTION:The first in an annual series of horse shows at Tymor Equestrian Center to benefit Eastern Hudson Valley Horse Council will start off on May 23rd\, 2021. \n\n\n\n\n	***Click Here to View The  Patterns***\n\n\n\n\n\n\nEnglish only classes:\n\n\n\nWalk-Trot EquitationBeginner EquitationNovice EquitationHopeful HunterLow HunterPuddle JumperTraining Jumper\n\n\n\n\n\nOpen to all disciplines:\n\n\n\nFitting and ShowmanshipGreen HorsePleasure HorseLeadlineGames\n\n\n\n\n\nWestern only classes:\n\n\n\nWalk / JogNoviceOpenRanch Riding\n\n\n\n\n\nObstacle Course\n\n\n\nJoin us for our Fun Obstacle Challenge!An unjudged introduction to an Obstacle Course.Designed and built by Peter IanucciCourse is open 9:00 AM – 1:30 PMThe course will consist of approximately eight (8) mostly natural obstacles – a gang plank\, gate\, bridge\, teeter-totter.Cost: $15.00 per roundParticipants will have approximately 15 minutes on the course.A Moderator will be present to re-set any disturbed obstacles.All participants are asked for follow the Moderator’s directions. \n\n\n\n\n\nTymor Show Series Flyer\n\n\n\n\n\nPrintable Event Details\n\n\n\n\n\nPrintable Registration Form\n\n\n\n\n\n\n\nHorse Show CommitteeChristine A. Nastasi – Co-Chair 845-588-5333Loretta Ryan – Co-Chair 845-797-1050Kristan DeGrazioJulia Del Vecchio \n\n\n\nJudgesThe committee reserves the right to substituteMay 23 – Ms. Audrey PetscheckJuly 11 – TBDAugust 15 – TBD \n\n\n\nHorse Show ManagerChristine A. Nastasi – info@EHVHorseCouncil.orgHorse Show will start PROMPTLY at 8:00 AM \n\n\n\n\n\nEntry Fees$15.00 per class\, unless otherwise noted.Triple Crown Feed Modified Hunter Derby – $25.00In order to be eligible to compete in the Modified Hunter Derby\, the horse/rider combination must have entered a minimum of three (3) other classes. \n\n\n\nOffice fee – $15.00 per entryDay fee – $65.00 per horse/rider combinationThe Day fee allows the horse/rider combination to enter a maximum of 10 of classes\, excluding the Modified Hunter Derby and Obstacle Course. \n\n\n\nEach additional class is $15.00 per class.Obstacle Course – $15.00 per round \n\n\n\n\n\nEntries close the Wednesday before the Horse ShowEntries received after this date will incur a Post-entry fee of $15.00 per entryEmail Pre-entries entries to: info@EHVHorseCouncil.orgMake checks payable to Eastern Hudson Valley Horse CouncilCompetitors may leave a signed\, open check with the Horse Show Secretary
URL:https://www.ehvhorsecouncil.org/event/tymor-2021-series-show-1/
LOCATION:Tymor Equestrian Center\, 165 Duncan Road\, Lagrangeville\, NY\, 12540\, United States
CATEGORIES:Riding
ATTACH;FMTTYPE=image/jpeg:https://www.ehvhorsecouncil.org/wp-content/uploads/2021/04/Show-Ring.jpg
END:VEVENT
END:VCALENDAR